BEGIN:VCALENDAR
VERSION:2.0
PRODID:-//www.nebraskacasa.org//NONSGML kigkonsult.se iCalcreator 2.30.10//
CALSCALE:GREGORIAN
METHOD:PUBLISH
UID:29d03fc1-28f7-453b-b995-6c423c91ff7f
X-WR-CALDESC:
X-WR-RELCALID:2388d20c9ac2ca93a5faafd2e9bbc548
X-WR-TIMEZONE:America/Chicago
BEGIN:VTIMEZONE
TZID:America/Chicago
BEGIN:STANDARD
TZNAME:CST
DTSTART:20261101T020000
TZOFFSETFROM:-0500
TZOFFSETTO:-0600
RDATE:20271107T020000
RDATE:20281105T020000
END:STANDARD
BEGIN:DAYLIGHT
TZNAME:CDT
DTSTART:20270314T020000
TZOFFSETFROM:-0600
TZOFFSETTO:-0500
RDATE:20280312T020000
RDATE:20290311T020000
END:DAYLIGHT
END:VTIMEZONE
BEGIN:VEVENT
UID:50cf0e8b-20c6-411e-8e3e-702cd8fb7cfb
DTSTAMP:20260422T080417Z
DESCRIPTION:
DTSTART;TZID=America/Chicago:20271021T180000
DTEND;TZID=America/Chicago:20271021T200000
LOCATION:
SUMMARY:Nebraska CASA Board Meeting
END:VEVENT
END:VCALENDAR
