BEGIN:VCALENDAR
VERSION:2.0
PRODID:-//www.nebraskacasa.org//NONSGML kigkonsult.se iCalcreator 2.30.10//
CALSCALE:GREGORIAN
METHOD:PUBLISH
UID:fd34fe7b-8045-4a2a-a442-c62fbfcbe1d7
X-WR-CALDESC:
X-WR-RELCALID:e25584b54e014a1e801dac5faab604d5
X-WR-TIMEZONE:America/Chicago
BEGIN:VTIMEZONE
TZID:America/Chicago
BEGIN:STANDARD
TZNAME:CST
DTSTART:20271107T020000
TZOFFSETFROM:-0500
TZOFFSETTO:-0600
RDATE:20281105T020000
END:STANDARD
BEGIN:DAYLIGHT
TZNAME:CDT
DTSTART:20280312T020000
TZOFFSETFROM:-0600
TZOFFSETTO:-0500
RDATE:20290311T020000
END:DAYLIGHT
END:VTIMEZONE
BEGIN:VEVENT
UID:ece5dd04-501d-417f-b35c-a63b1833542e
DTSTAMP:20260422T174534Z
DESCRIPTION:
DTSTART;TZID=America/Chicago:20280420T180000
DTEND;TZID=America/Chicago:20280420T200000
LOCATION:
SUMMARY:Nebraska CASA Board Meeting
END:VEVENT
END:VCALENDAR
