BEGIN:VCALENDAR
VERSION:2.0
PRODID:-//www.nebraskacasa.org//NONSGML kigkonsult.se iCalcreator 2.30.10//
CALSCALE:GREGORIAN
METHOD:PUBLISH
UID:0e4598c4-4227-4886-a975-4ed3d97328ad
X-WR-CALDESC:
X-WR-RELCALID:28eb75b44e131435ee6964209391e77d
X-WR-TIMEZONE:America/Chicago
BEGIN:VTIMEZONE
TZID:America/Chicago
BEGIN:STANDARD
TZNAME:CST
DTSTART:20301103T020000
TZOFFSETFROM:-0500
TZOFFSETTO:-0600
RDATE:20311102T020000
END:STANDARD
BEGIN:DAYLIGHT
TZNAME:CDT
DTSTART:20310309T020000
TZOFFSETFROM:-0600
TZOFFSETTO:-0500
RDATE:20320314T020000
END:DAYLIGHT
END:VTIMEZONE
BEGIN:VEVENT
UID:c2378e38-4d8b-41b9-a20a-4390d11d3757
DTSTAMP:20260424T203429Z
DESCRIPTION:
DTSTART;TZID=America/Chicago:20310417T180000
DTEND;TZID=America/Chicago:20310417T200000
LOCATION:
SUMMARY:Nebraska CASA Board Meeting
END:VEVENT
END:VCALENDAR
